BEGIN:VCALENDAR
VERSION:2.0
PRODID:-//powerbrain-regional.de - ECPv6.15.20//NONSGML v1.0//EN
CALSCALE:GREGORIAN
METHOD:PUBLISH
X-WR-CALNAME:powerbrain-regional.de
X-ORIGINAL-URL:https://powerbrain-regional.de
X-WR-CALDESC:Veranstaltungen für powerbrain-regional.de
REFRESH-INTERVAL;VALUE=DURATION:PT1H
X-Robots-Tag:noindex
X-PUBLISHED-TTL:PT1H
BEGIN:VTIMEZONE
TZID:Europe/Berlin
BEGIN:DAYLIGHT
TZOFFSETFROM:+0100
TZOFFSETTO:+0200
TZNAME:CEST
DTSTART:20210328T010000
END:DAYLIGHT
BEGIN:STANDARD
TZOFFSETFROM:+0200
TZOFFSETTO:+0100
TZNAME:CET
DTSTART:20211031T010000
END:STANDARD
BEGIN:DAYLIGHT
TZOFFSETFROM:+0100
TZOFFSETTO:+0200
TZNAME:CEST
DTSTART:20220327T010000
END:DAYLIGHT
BEGIN:STANDARD
TZOFFSETFROM:+0200
TZOFFSETTO:+0100
TZNAME:CET
DTSTART:20221030T010000
END:STANDARD
BEGIN:DAYLIGHT
TZOFFSETFROM:+0100
TZOFFSETTO:+0200
TZNAME:CEST
DTSTART:20230326T010000
END:DAYLIGHT
BEGIN:STANDARD
TZOFFSETFROM:+0200
TZOFFSETTO:+0100
TZNAME:CET
DTSTART:20231029T010000
END:STANDARD
END:VTIMEZONE
BEGIN:VEVENT
DTSTART;VALUE=DATE:20220611
DTEND;VALUE=DATE:20220613
DTSTAMP:20260425T025002
CREATED:20220401T091027Z
LAST-MODIFIED:20220518T085019Z
UID:60941-1654905600-1655078399@powerbrain-regional.de
SUMMARY:Fokus für den Alltag
DESCRIPTION:Du hast Konzentrationsschwierigkeiten und weißt nicht\, wo Du Kapazitäten für neue Dinge herholen kannst? Dein Kopf ist voll und Du hast Gedächtnisprobleme? So richtig kreative Ideen fehlen dir? Deine Koordinationsprobleme machen Dir im Alltag zu schaffen? \nDie einzigartige Kombination aus Information\, Entspannung und Bewegung unterstützt jeden Menschen\, sich geistig und mental auf Vordermann zu bringen. Ziel ist u.a. das Schaffen neuer synaptischer Verbindungen in der „Schaltzentrale“ Gehirn. \nAuf Basis der modernen Gehirnforschung\, der Bioenergetik\, dem Wissen der Sportkinesiologie\, der Kommunikationswissenschaft und der Erfahrung aus dem Leistungssport verhilft dieses Mentaltraining zu mehr Konzentration\, reduziert die Fehlerquoten\, fördert die geistige Kreativität\, erhöht die Stressresistenz und macht zusätzlich noch viel Spaß. Mal etwas völlig anderes! \nInhalte des Kurses\n\nIndividuelle Analyse zu Beginn des Trainings\nAnalyse der Wahrnehmungskanäle\, mit Übungen\nKonzentrationstraining\nSpezifisches Augentraining mit Übungen und Blindstrecken\nErkennen der Augendominanz mit praktischen Übungen\nEntspannungstechniken\, mit Übungen und Anwendungsmöglichkeiten\nEinfache\, sofort umsetzbare Techniken zur Förderung der Konzentration\n\nMethode\n\nVermittlung von theoretischen Grundlagen\nGehirnaktivierung durch Bewegungs- und Koordinationsherausforderungen\n\nKosten 290 €\n  \nAnmeldung & Anfragen unter: \ninfo@powerbrain-institut-sued.de || Tel.: 0821 9998718140
URL:https://powerbrain-regional.de/kurs/fokus-fuer-den-alltag/
LOCATION:Berlin
ATTACH;FMTTYPE=image/jpeg:https://powerbrain-regional.de/wp-content/uploads/02_Fokus-für-den-Alltag.jpg
END:VEVENT
END:VCALENDAR