BEGIN:VCALENDAR
VERSION:2.0
PRODID:-//powerbrain-regional.de - ECPv6.15.20//NONSGML v1.0//EN
CALSCALE:GREGORIAN
METHOD:PUBLISH
X-WR-CALNAME:powerbrain-regional.de
X-ORIGINAL-URL:https://powerbrain-regional.de
X-WR-CALDESC:Veranstaltungen für powerbrain-regional.de
REFRESH-INTERVAL;VALUE=DURATION:PT1H
X-Robots-Tag:noindex
X-PUBLISHED-TTL:PT1H
BEGIN:VTIMEZONE
TZID:Europe/Berlin
BEGIN:DAYLIGHT
TZOFFSETFROM:+0100
TZOFFSETTO:+0200
TZNAME:CEST
DTSTART:20210328T010000
END:DAYLIGHT
BEGIN:STANDARD
TZOFFSETFROM:+0200
TZOFFSETTO:+0100
TZNAME:CET
DTSTART:20211031T010000
END:STANDARD
BEGIN:DAYLIGHT
TZOFFSETFROM:+0100
TZOFFSETTO:+0200
TZNAME:CEST
DTSTART:20220327T010000
END:DAYLIGHT
BEGIN:STANDARD
TZOFFSETFROM:+0200
TZOFFSETTO:+0100
TZNAME:CET
DTSTART:20221030T010000
END:STANDARD
BEGIN:DAYLIGHT
TZOFFSETFROM:+0100
TZOFFSETTO:+0200
TZNAME:CEST
DTSTART:20230326T010000
END:DAYLIGHT
BEGIN:STANDARD
TZOFFSETFROM:+0200
TZOFFSETTO:+0100
TZNAME:CET
DTSTART:20231029T010000
END:STANDARD
END:VTIMEZONE
BEGIN:VEVENT
DTSTART;TZID=Europe/Berlin:20220713T103000
DTEND;TZID=Europe/Berlin:20220713T123000
DTSTAMP:20260421T132553
CREATED:20220729T081243Z
LAST-MODIFIED:20220729T081243Z
UID:61907-1657708200-1657715400@powerbrain-regional.de
SUMMARY:Ferienkurs Mentaltraining Kinder
DESCRIPTION:Die heutige Zeit ist von großen Herausforderungen geprägt. Auch oder gerade an unseren Kindern geht das nicht spurlos vorüber. Der immer stärkereLeistungsdruck in der Schule kann für Eltern\, Lehrer und Kinder zur Belastung werden. Powerbrain liefert Ansätze\, mit natürlichen Methoden und Bewegungen Verbesserungen herbeizuführen. \nKennen Sie das? \nIhr Kind... \n> liest langsam und gerät häufig ins Stocken \n> hat Probleme beim Zusammenziehen einzelner Buchstaben \n> kann Texte zwar (langsam) lesen\, aber den Inhalt nicht verstehen \n> macht auffallend viele Rechtschreibfehler \nDurch gezielte Bewegungsübungen und Techniken\, sowie Entspannungsübungen wird das Netzwerk im Gehirn erweitert:\n> sie gehen entspannter an künftige Aufgaben \n> sie steigern Ihre schulischen Leistungen \n> sie erledigen leichter ihre Hausaufgaben \n> sie lernen\, sich besser zu konzentrieren \n> sie werden selbstbewusster \nKursdetails\n Zielgruppe:    Kinder von 8 - 11 Jahren und 10 - 13 Jahren \n                           Minimum 6 Kinder\, maximal 10 Kinder \nIhre Leistung:  10\,-Euro je Teilnahme \n  \nVeranstaltungsort: \nBerlin-Hohenschönhausen\nPraxis Familienleben\nFriedhofstraße 2\n13053 Berlin \nTermine: \nMittwoch\, den 13.07.2022\,  10:30-12:00 Uhr \nMontag\, den 25.07.2022\,  10:30-12:00 Uhr \nMittwoch\, den 10.08.2022\,  10:30-12:00 Uhr  \n 
URL:https://powerbrain-regional.de/kurs/ferienkurs-mentaltraining-kinder/
LOCATION:Kultur im Bahnhof e.V.\, Bahnhofsplatz 1\, 16359 Biesenthal\, Friedhofstraße 2\, Berlin\, 13053\, Deutschland
CATEGORIES:Powerbrain Berlin
ATTACH;FMTTYPE=image/jpeg:https://powerbrain-regional.de/wp-content/uploads/hintergrund.jpg
END:VEVENT
END:VCALENDAR