BEGIN:VCALENDAR
VERSION:2.0
PRODID:-//powerbrain-regional.de - ECPv6.15.20//NONSGML v1.0//EN
CALSCALE:GREGORIAN
METHOD:PUBLISH
X-WR-CALNAME:powerbrain-regional.de
X-ORIGINAL-URL:https://powerbrain-regional.de
X-WR-CALDESC:Veranstaltungen für powerbrain-regional.de
REFRESH-INTERVAL;VALUE=DURATION:PT1H
X-Robots-Tag:noindex
X-PUBLISHED-TTL:PT1H
BEGIN:VTIMEZONE
TZID:Europe/Berlin
BEGIN:DAYLIGHT
TZOFFSETFROM:+0100
TZOFFSETTO:+0200
TZNAME:CEST
DTSTART:20210328T010000
END:DAYLIGHT
BEGIN:STANDARD
TZOFFSETFROM:+0200
TZOFFSETTO:+0100
TZNAME:CET
DTSTART:20211031T010000
END:STANDARD
BEGIN:DAYLIGHT
TZOFFSETFROM:+0100
TZOFFSETTO:+0200
TZNAME:CEST
DTSTART:20220327T010000
END:DAYLIGHT
BEGIN:STANDARD
TZOFFSETFROM:+0200
TZOFFSETTO:+0100
TZNAME:CET
DTSTART:20221030T010000
END:STANDARD
BEGIN:DAYLIGHT
TZOFFSETFROM:+0100
TZOFFSETTO:+0200
TZNAME:CEST
DTSTART:20230326T010000
END:DAYLIGHT
BEGIN:STANDARD
TZOFFSETFROM:+0200
TZOFFSETTO:+0100
TZNAME:CET
DTSTART:20231029T010000
END:STANDARD
END:VTIMEZONE
BEGIN:VEVENT
DTSTART;TZID=Europe/Berlin:20220713T103000
DTEND;TZID=Europe/Berlin:20220713T123000
DTSTAMP:20260421T150213
CREATED:20220729T081243Z
LAST-MODIFIED:20220729T081243Z
UID:61907-1657708200-1657715400@powerbrain-regional.de
SUMMARY:Ferienkurs Mentaltraining Kinder
DESCRIPTION:Die heutige Zeit ist von großen Herausforderungen geprägt. Auch oder gerade an unseren Kindern geht das nicht spurlos vorüber. Der immer stärkereLeistungsdruck in der Schule kann für Eltern\, Lehrer und Kinder zur Belastung werden. Powerbrain liefert Ansätze\, mit natürlichen Methoden und Bewegungen Verbesserungen herbeizuführen. \nKennen Sie das? \nIhr Kind... \n> liest langsam und gerät häufig ins Stocken \n> hat Probleme beim Zusammenziehen einzelner Buchstaben \n> kann Texte zwar (langsam) lesen\, aber den Inhalt nicht verstehen \n> macht auffallend viele Rechtschreibfehler \nDurch gezielte Bewegungsübungen und Techniken\, sowie Entspannungsübungen wird das Netzwerk im Gehirn erweitert:\n> sie gehen entspannter an künftige Aufgaben \n> sie steigern Ihre schulischen Leistungen \n> sie erledigen leichter ihre Hausaufgaben \n> sie lernen\, sich besser zu konzentrieren \n> sie werden selbstbewusster \nKursdetails\n Zielgruppe:    Kinder von 8 - 11 Jahren und 10 - 13 Jahren \n                           Minimum 6 Kinder\, maximal 10 Kinder \nIhre Leistung:  10\,-Euro je Teilnahme \n  \nVeranstaltungsort: \nBerlin-Hohenschönhausen\nPraxis Familienleben\nFriedhofstraße 2\n13053 Berlin \nTermine: \nMittwoch\, den 13.07.2022\,  10:30-12:00 Uhr \nMontag\, den 25.07.2022\,  10:30-12:00 Uhr \nMittwoch\, den 10.08.2022\,  10:30-12:00 Uhr  \n 
URL:https://powerbrain-regional.de/kurs/ferienkurs-mentaltraining-kinder/
LOCATION:Kultur im Bahnhof e.V.\, Bahnhofsplatz 1\, 16359 Biesenthal\, Friedhofstraße 2\, Berlin\, 13053\, Deutschland
CATEGORIES:Powerbrain Berlin
ATTACH;FMTTYPE=image/jpeg:https://powerbrain-regional.de/wp-content/uploads/hintergrund.jpg
END:VEVENT
BEGIN:VEVENT
DTSTART;VALUE=DATE:20220721
DTEND;VALUE=DATE:20220725
DTSTAMP:20260421T150213
CREATED:20220629T080439Z
LAST-MODIFIED:20220629T084015Z
UID:61757-1658361600-1658707199@powerbrain-regional.de
SUMMARY:Trainerausbildung Modul 1
DESCRIPTION:Werde zertifizierter Mental - und Lerncoach der neuesten Generation - in nur 4 Tagen\nInhalt: \n\nViel Spass und mindestens 50% Praxis!\nDetailliertes Wissen über unser Gehirn\, die synaptischen Verbindungen\, die Funktionsweise und Biochemie\, Gehirn-Körpermodell\nWas passiert bei Stress und Blockaden in Gehirn und Körper? - Auflösungsmöglichkeiten\nKommunikationswissenschaft\, Analyse der Wahrnehmungskanäle\, mit Übungen\nPraktische Durchführung vieler Übungen zur Gehirnaktivierung und ein fertiges Konzept zum Start für Kurse bzw. Workshops\nSpezifisches Augentraining mit Übungen und Blindstrecken\nErkennen der Augendominanz mit praktischen Übungen\nKonzentration und FLOW\nGehirnfrequenzen in verschiedenen Situationen (Theorie und Praxis)\nAnspannung - Entspannung\, Entspannungstechniken\, mit Übungen und Anwendungsmöglichkeiten\nEinfache und sofort umsetzbare Techniken zur Förderung der Konzentration\, sowie effektive Lerntipps für Kinder und Studenten\nSpezialisierungsmöglichkeiten – Kinder\, Erwachsene (Seniorenbereich)\, Business (Teambildung) oder Sportler mit zusätzlichen Tools\nMethodik und Didaktik\, Werbung\, Marketing und Lizenz\, Unterlagen
URL:https://powerbrain-regional.de/kurs/trainerausbildung-modul1/
LOCATION:Stadlerhof\, Großgundertshausen\, Dorfstraße 15\, Großgundertshausen\, 84106\, Deutschland
CATEGORIES:Powerbrain Institut,Trainerausbildung
ATTACH;FMTTYPE=image/png:https://powerbrain-regional.de/wp-content/uploads/55.png
END:VEVENT
BEGIN:VEVENT
DTSTART;TZID=Europe/Berlin:20220723T090000
DTEND;TZID=Europe/Berlin:20220724T170000
DTSTAMP:20260421T150213
CREATED:20220405T105518Z
LAST-MODIFIED:20220518T091639Z
UID:60999-1658566800-1658682000@powerbrain-regional.de
SUMMARY:Motivation & Zufriedenheit
DESCRIPTION:Du bist mit Deiner aktuellen Situation unzufrieden? Dir fehlt der (innere) Antrieb? Du hinterfragst deine bisherigen Ziele und bist unschlüssig\, was Du wirklich im Leben willst? Du fragst Dich\, was die richtige Entscheidung ist? Funktionierst Du nur oder lebst Du schon? \nFür den mentalen Bereich ist die intrinsische (innere\, eigene) Motivation eines der wichtigsten Kriterien überhaupt. In diesen beiden Tagen geht es darum\, mit einfachen Techniken die wahren Antriebsgründe (Motive) zu erforschen. Nicht das Ziel ist der wichtigste Punkt\, sondern das Motiv. Warum oder wofür will ich dieses Ziel erreichen? \nDie Beantwortung dieser Frage liefert dem Menschen die Energie\, um dann tatsächlich die gesteckten Ziele zu erreichen. Da es sich bei Motiven um emotionale Dinge handelt\, finden diese sich auf der rechten\, mehr emotionalen Gehirnhälfte. Um die linke und digitale Gehirnhälfte ebenfalls mit „ins Boot zu holen“\, werden aus den Motiven heraus\, Ziele klar definiert mit Zahlen\, Daten und Fakten. Der dazugehörige Plan mit den entsprechenden Aufgaben bewirkt dann eine psychische Ordnung. Während dieser zwei Tage beschäftigen wir uns schwerpunktmäßig mit dem Thema Aufbau und Schutz der Eigenmotivation und werden gemeinsam hochinteressante Techniken der Motivfindung und -konkretisierung praktisch durchführen. Eine kleine und gute Vorbereitung auf die Seminartage bewirken eine deutliche Steigerung des Seminareffektes und wir werden Ihnen auch zeigen\, wie Sie Ihre Motive und Ziele im Nachgang des Seminars verwirklichen können. \nInhalte des Kurses\n\nDetailliertes Wissen Bewusstsein und Unterbewusstsein\, Motivationspsychologie\nUnterschied intrinsisch – extrinsisch und verschiedene Motivationsmodelle\nEvolutionspsychologie; Primär- und Sekundärmotive\nPraktisches Visualisierungsprojekt\, Visionboard und deren Wirkung\nErkennen und eliminieren von Motivationskillern und Störfaktoren\nHerstellen der psychischen Ordnung durch Beantwortung der 3 Fragen: Wohin? Wofür? Was ist zu tun?\nSelbstbewusstsein\, Selbstvertrauen\n\nMethode\n\nVermittlung von theoretischen Grundlagen\nErstellung eines Visionboard mit Methodik aus der Psychologie\nPraktische Übungen\, die dabei unterstützen:\ndie tiefverborgenen persönlichen Motive zu entdecken und daraus die eigenen Lebensziele abzuleiten\npsychische Ordnung zu finden\nschwierige Situationen besser zu meistern\ndas Selbstvertrauen weiter wachsen zu lassen\nMotivationskiller und Störfaktoren zu eliminieren\n\n  \nKosten 290 €\n  \nAnmeldung & Anfragen unter: info@powerbrain-institut-sued.de || Tel.: 0821 9998718140
URL:https://powerbrain-regional.de/kurs/intrinsische-motivation/
LOCATION:Berlin
CATEGORIES:Powerbrain Süd
ATTACH;FMTTYPE=image/jpeg:https://powerbrain-regional.de/wp-content/uploads/02_Motivation-und-Zufriedenheit-scaled.jpg
END:VEVENT
BEGIN:VEVENT
DTSTART;TZID=Europe/Berlin:20220713T103000
DTEND;TZID=Europe/Berlin:20220713T123000
DTSTAMP:20260421T150213
CREATED:20220729T081243Z
LAST-MODIFIED:20220729T081243Z
UID:61907-1657708200-1657715400@powerbrain-regional.de
SUMMARY:Ferienkurs Mentaltraining Kinder
DESCRIPTION:Die heutige Zeit ist von großen Herausforderungen geprägt. Auch oder gerade an unseren Kindern geht das nicht spurlos vorüber. Der immer stärkereLeistungsdruck in der Schule kann für Eltern\, Lehrer und Kinder zur Belastung werden. Powerbrain liefert Ansätze\, mit natürlichen Methoden und Bewegungen Verbesserungen herbeizuführen. \nKennen Sie das? \nIhr Kind... \n> liest langsam und gerät häufig ins Stocken \n> hat Probleme beim Zusammenziehen einzelner Buchstaben \n> kann Texte zwar (langsam) lesen\, aber den Inhalt nicht verstehen \n> macht auffallend viele Rechtschreibfehler \nDurch gezielte Bewegungsübungen und Techniken\, sowie Entspannungsübungen wird das Netzwerk im Gehirn erweitert:\n> sie gehen entspannter an künftige Aufgaben \n> sie steigern Ihre schulischen Leistungen \n> sie erledigen leichter ihre Hausaufgaben \n> sie lernen\, sich besser zu konzentrieren \n> sie werden selbstbewusster \nKursdetails\n Zielgruppe:    Kinder von 8 - 11 Jahren und 10 - 13 Jahren \n                           Minimum 6 Kinder\, maximal 10 Kinder \nIhre Leistung:  10\,-Euro je Teilnahme \n  \nVeranstaltungsort: \nBerlin-Hohenschönhausen\nPraxis Familienleben\nFriedhofstraße 2\n13053 Berlin \nTermine: \nMittwoch\, den 13.07.2022\,  10:30-12:00 Uhr \nMontag\, den 25.07.2022\,  10:30-12:00 Uhr \nMittwoch\, den 10.08.2022\,  10:30-12:00 Uhr  \n 
URL:https://powerbrain-regional.de/kurs/ferienkurs-mentaltraining-kinder/
LOCATION:Kultur im Bahnhof e.V.\, Bahnhofsplatz 1\, 16359 Biesenthal\, Friedhofstraße 2\, Berlin\, 13053\, Deutschland
CATEGORIES:Powerbrain Berlin
ATTACH;FMTTYPE=image/jpeg:https://powerbrain-regional.de/wp-content/uploads/hintergrund.jpg
END:VEVENT
BEGIN:VEVENT
DTSTART;VALUE=DATE:20220721
DTEND;VALUE=DATE:20220725
DTSTAMP:20260421T150213
CREATED:20220629T080439Z
LAST-MODIFIED:20220629T084015Z
UID:61757-1658361600-1658707199@powerbrain-regional.de
SUMMARY:Trainerausbildung Modul 1
DESCRIPTION:Werde zertifizierter Mental - und Lerncoach der neuesten Generation - in nur 4 Tagen\nInhalt: \n\nViel Spass und mindestens 50% Praxis!\nDetailliertes Wissen über unser Gehirn\, die synaptischen Verbindungen\, die Funktionsweise und Biochemie\, Gehirn-Körpermodell\nWas passiert bei Stress und Blockaden in Gehirn und Körper? - Auflösungsmöglichkeiten\nKommunikationswissenschaft\, Analyse der Wahrnehmungskanäle\, mit Übungen\nPraktische Durchführung vieler Übungen zur Gehirnaktivierung und ein fertiges Konzept zum Start für Kurse bzw. Workshops\nSpezifisches Augentraining mit Übungen und Blindstrecken\nErkennen der Augendominanz mit praktischen Übungen\nKonzentration und FLOW\nGehirnfrequenzen in verschiedenen Situationen (Theorie und Praxis)\nAnspannung - Entspannung\, Entspannungstechniken\, mit Übungen und Anwendungsmöglichkeiten\nEinfache und sofort umsetzbare Techniken zur Förderung der Konzentration\, sowie effektive Lerntipps für Kinder und Studenten\nSpezialisierungsmöglichkeiten – Kinder\, Erwachsene (Seniorenbereich)\, Business (Teambildung) oder Sportler mit zusätzlichen Tools\nMethodik und Didaktik\, Werbung\, Marketing und Lizenz\, Unterlagen
URL:https://powerbrain-regional.de/kurs/trainerausbildung-modul1/
LOCATION:Stadlerhof\, Großgundertshausen\, Dorfstraße 15\, Großgundertshausen\, 84106\, Deutschland
CATEGORIES:Powerbrain Institut,Trainerausbildung
ATTACH;FMTTYPE=image/png:https://powerbrain-regional.de/wp-content/uploads/55.png
END:VEVENT
END:VCALENDAR